BEGIN:VCALENDAR
VERSION:2.0
PRODID:-//Alicia Martínez Bonfill - ECPv5.14.0.1//NONSGML v1.0//EN
CALSCALE:GREGORIAN
METHOD:PUBLISH
X-WR-CALNAME:Alicia Martínez Bonfill
X-ORIGINAL-URL:https://aliciamartinezbonfill.com
X-WR-CALDESC:Eventos para Alicia Martínez Bonfill
REFRESH-INTERVAL;VALUE=DURATION:PT1H
X-Robots-Tag:noindex
X-PUBLISHED-TTL:PT1H
BEGIN:VTIMEZONE
TZID:UTC
BEGIN:STANDARD
TZOFFSETFROM:+0000
TZOFFSETTO:+0000
TZNAME:UTC
DTSTART:20220101T000000
END:STANDARD
TZID:Europe/Madrid
BEGIN:DAYLIGHT
TZOFFSETFROM:+0100
TZOFFSETTO:+0200
TZNAME:CEST
DTSTART:20220327T010000
END:DAYLIGHT
BEGIN:STANDARD
TZOFFSETFROM:+0200
TZOFFSETTO:+0100
TZNAME:CET
DTSTART:20221030T010000
END:STANDARD
BEGIN:DAYLIGHT
TZOFFSETFROM:+0100
TZOFFSETTO:+0200
TZNAME:CEST
DTSTART:20230326T010000
END:DAYLIGHT
BEGIN:STANDARD
TZOFFSETFROM:+0200
TZOFFSETTO:+0100
TZNAME:CET
DTSTART:20231029T010000
END:STANDARD
BEGIN:DAYLIGHT
TZOFFSETFROM:+0100
TZOFFSETTO:+0200
TZNAME:CEST
DTSTART:20240331T010000
END:DAYLIGHT
BEGIN:STANDARD
TZOFFSETFROM:+0200
TZOFFSETTO:+0100
TZNAME:CET
DTSTART:20241027T010000
END:STANDARD
END:VTIMEZONE
BEGIN:VEVENT
DTSTART;TZID=UTC:20220430T190000
DTEND;TZID=UTC:20220430T190000
DTSTAMP:20260425T173326
CREATED:20221211T120810Z
LAST-MODIFIED:20221211T120810Z
UID:362-1651345200-1651345200@aliciamartinezbonfill.com
SUMMARY:Spiritual Suite
DESCRIPTION:L’entitat Segle Nou commemora amb diversos actes els 100 anys de la reconstrucció de l’església romànica de Santa Maria de Cervelló amb la col·laboració de l’Ajuntament. \n  \nEl cicle per recordar l’efemèride començarà el pròxim 30 d’abril amb la conferència Puig i Cadafalch i els seus deixebles en la conservació i restauració de Santa Maria de Cervelló. Serà impartida a la mateixes església per Raquel Cuesta\, doctora en Història de l’Art. I tot seguit. La coral Cor de Ponent posarà la nota musical amb el concert Spiritual Suite\, amb la soprano Alícia Martínez Bonfill i la pianista Irene Aisemberg\, sota la direcció de Pablo Acosta. \n  \nL’església de Santa Maria de Cervelló està documentada al segle X i va ser l’antiga parròquia de Cervelló fins al segle XX\, que es va construir possiblement sobre una base d’una capella del segle IX. L’any 1922 es va iniciar la seva reconstrucció de les mans de l’equip de l’arquitecte modernista Josep Puig i Cadafalch. \n 
URL:https://aliciamartinezbonfill.com/index.php/event/spiritual-suite/
LOCATION:Santa Maria de Cervelló\, Església de Santa Maria de Cervelló\, Cervelló\, Barcelona\, 08758
ATTACH;FMTTYPE=image/jpeg:https://aliciamartinezbonfill.com/wp-content/uploads/2022/12/9069_20220430_concert_cor_de_ponent.jpg
END:VEVENT
BEGIN:VEVENT
DTSTART;TZID=UTC:20220728T220000
DTEND;TZID=UTC:20220728T220000
DTSTAMP:20260425T173326
CREATED:20221211T122852Z
LAST-MODIFIED:20221211T122852Z
UID:367-1659045600-1659045600@aliciamartinezbonfill.com
SUMMARY:Concert Líric a les Nits d'Estiu de Cornellà
DESCRIPTION:Este jueves tendrá lugar el último concierto lírico de las Nits d’Estiu al Castell con la soprano Alicia Martínez Bonfill y la pianista Irene Aisemberg. Será partir de las 22 h y es totalmente gratuito\, como ha recordado el ayuntamiento desde su plataforma ‘Què fer a Cornellà’. \n  \nLa programación de las Nits d’Estiu finaliza esta semana\, y con ella\, las actividades más emblemáticas. La soprano y la pianista proponen una velada musical con canciones originales para voz y para piano de todo el mundo\, desde Elgar a Toldrà pasante por Ginastera. Un viaje que tendrá la naturaleza como hilo conductor\, con armonías oníricas que crearán una atmósfera sugerente e inspiradora.
URL:https://aliciamartinezbonfill.com/index.php/event/concert-liric-a-les-nits-destiu-de-cornella/
LOCATION:Castell de Cornellà\, Carrer de Mossèn Jacint Verdaguer\, s/n\, Cornellà de Llobregat\, Barcelona\, 08940
ATTACH;FMTTYPE=image/jpeg:https://aliciamartinezbonfill.com/wp-content/uploads/2022/12/thumbnail_IMG_5127.jpg
END:VEVENT
BEGIN:VEVENT
DTSTART;TZID=Europe/Madrid:20221113T173000
DTEND;TZID=Europe/Madrid:20221113T183000
DTSTAMP:20260425T173326
CREATED:20240501T170950Z
LAST-MODIFIED:20240501T171600Z
UID:373-1668360600-1668364200@aliciamartinezbonfill.com
SUMMARY:Missa Solemnis a Santa Cecília
DESCRIPTION:Ch. Gounod\, Messe Solenelle à ste. Cécile \nAlicia Martínez Bonfill\, soprano\nJoan Francesc Folqué\, tenor\nNéstor Pindado\, baríton\nVicenç Prunés\, orgue \nCor Jove Amics de la Unió\nGuifré Canadell\, direcció
URL:https://aliciamartinezbonfill.com/index.php/event/santacecilia/
LOCATION:sant esteve granollers\, Plaça de l'Església\, Granollers\, Barcelona\, España
ATTACH;FMTTYPE=image/png:https://aliciamartinezbonfill.com/wp-content/uploads/2024/05/Captura-de-pantalla-2024-05-01-a-las-19.07.09.png
END:VEVENT
BEGIN:VEVENT
DTSTART;TZID=Europe/Madrid:20221126T183000
DTEND;TZID=Europe/Madrid:20221126T193000
DTSTAMP:20260425T173326
CREATED:20240501T172454Z
LAST-MODIFIED:20240501T172454Z
UID:380-1669487400-1669491000@aliciamartinezbonfill.com
SUMMARY:Missa Solemnis a Santa Cecília
DESCRIPTION:Ch. Gounod\, Messe Solenelle à ste. Cécile \nAlicia Martínez Bonfill\, soprano\nJoan Francesc Folqué\, tenor\nNéstor Pindado\, baríton\nVicenç Prunés\, orgue \nCor Jove Amics de la Unió\nGuifré Canadell\, direcció
URL:https://aliciamartinezbonfill.com/index.php/event/missa-solemnis-a-santa-cecilia/
LOCATION:Basilica de Santa Maria\, Vilafranca del Penedès
ATTACH;FMTTYPE=image/png:https://aliciamartinezbonfill.com/wp-content/uploads/2024/05/Captura-de-pantalla-2024-05-01-a-las-19.20.57.png
END:VEVENT
BEGIN:VEVENT
DTSTART;TZID=Europe/Madrid:20221203T180000
DTEND;TZID=Europe/Madrid:20221203T190000
DTSTAMP:20260425T173326
CREATED:20240501T173638Z
LAST-MODIFIED:20240501T173638Z
UID:384-1670090400-1670094000@aliciamartinezbonfill.com
SUMMARY:Suite de Nadal
DESCRIPTION:Alicia Martínez Bonfill\, soprano\nJaime González-Sierra\, orgue\nCor de Ponent\nPablo Acosta\, direcció
URL:https://aliciamartinezbonfill.com/index.php/event/suite-de-nadal/
LOCATION:Cripta de la Sagrada Familia\, Barcelona
ATTACH;FMTTYPE=image/png:https://aliciamartinezbonfill.com/wp-content/uploads/2024/05/Captura-de-pantalla-2024-05-01-a-las-19.31.39.png
END:VEVENT
BEGIN:VEVENT
DTSTART;TZID=Europe/Madrid:20231229T193000
DTEND;TZID=Europe/Madrid:20231229T203000
DTSTAMP:20260425T173326
CREATED:20240501T174444Z
LAST-MODIFIED:20240501T174444Z
UID:390-1703878200-1703881800@aliciamartinezbonfill.com
SUMMARY:Gloria de Vivaldi
DESCRIPTION:Alicia Martínez Bonfill\, soprano \nBeatriz Peña\, alto \nCor de Ponent\, Cor de Cambra del Cor de Ponent \nEnsemble instrumental del Cor de Ponent \nPablo Acosta\, direcció
URL:https://aliciamartinezbonfill.com/index.php/event/gloria-de-vivaldi/
LOCATION:Sant Pau del Camp\, Barcelona
ATTACH;FMTTYPE=image/png:https://aliciamartinezbonfill.com/wp-content/uploads/2024/05/Captura-de-pantalla-2024-05-01-a-las-19.29.48.png
END:VEVENT
BEGIN:VEVENT
DTSTART;TZID=Europe/Madrid:20231230T180000
DTEND;TZID=Europe/Madrid:20231230T190000
DTSTAMP:20260425T173326
CREATED:20240501T174939Z
LAST-MODIFIED:20240501T174939Z
UID:393-1703959200-1703962800@aliciamartinezbonfill.com
SUMMARY:Gloria de Vivaldi
DESCRIPTION:Alicia Martínez Bonfill\, soprano \nBeatriz Peña\, alto \nCor de Ponent\, Cor de Cambra del Cor de Ponent \nEnsemble instrumental del Cor de Ponent \nPablo Acosta\, direcció
URL:https://aliciamartinezbonfill.com/index.php/event/gloria-de-vivaldi-2/
LOCATION:Monestir de Sant Llorenç\, Guardiola de Berguedà
ATTACH;FMTTYPE=image/png:https://aliciamartinezbonfill.com/wp-content/uploads/2024/05/Captura-de-pantalla-2024-05-01-a-las-19.31.04.png
END:VEVENT
BEGIN:VEVENT
DTSTART;TZID=Europe/Madrid:20240602T190000
DTEND;TZID=Europe/Madrid:20240602T200000
DTSTAMP:20260425T173326
CREATED:20240501T180119Z
LAST-MODIFIED:20240501T180119Z
UID:396-1717354800-1717358400@aliciamartinezbonfill.com
SUMMARY:Requiem de Mozart
DESCRIPTION:Alicia Martínez Bonfill\, soprano \nTànit Bono\, contralt \nJordi Casanova\, tenor \nOriol Mallart\, baríton \nCoral Ginesta de Cervera i Cor de la Diputació de Girona \nOrquestra de Cambra Terrassa 48 \nJosep Miquel Mindán\, direcció
URL:https://aliciamartinezbonfill.com/index.php/event/requiem-de-mozart/
LOCATION:Auditori de Terrassa\, Miquel Vives\, 2\, Terrassa\, Barcelona\, España
ATTACH;FMTTYPE=image/jpeg:https://aliciamartinezbonfill.com/wp-content/uploads/2024/05/Captura-de-pantalla-2024-05-01-a-las-19.58.14.jpg
END:VEVENT
BEGIN:VEVENT
DTSTART;TZID=Europe/Madrid:20240629T180000
DTEND;TZID=Europe/Madrid:20240629T190000
DTSTAMP:20260425T173326
CREATED:20240501T180945Z
LAST-MODIFIED:20240501T180945Z
UID:400-1719684000-1719687600@aliciamartinezbonfill.com
SUMMARY:Requiem de Mozart
DESCRIPTION:Alicia Martínez Bonfill\, soprano \nTànit Bono\, contralt \nJordi Casanova\, tenor \nOriol Mallart\, baríton \nCoral Ginesta de Cervera i Cor de la Diputació de Girona \nOrquestra de Cambra Terrassa 48 \nJosep Miquel Mindán\, direcció
URL:https://aliciamartinezbonfill.com/index.php/event/requiem-de-mozart-2/
LOCATION:Concert sota l’Autovia A-2\, Vergós de Cervera
ATTACH;FMTTYPE=image/jpeg:https://aliciamartinezbonfill.com/wp-content/uploads/2024/05/Captura-de-pantalla-2024-05-01-a-las-19.58.14.jpg
END:VEVENT
BEGIN:VEVENT
DTSTART;TZID=Europe/Madrid:20240630T180000
DTEND;TZID=Europe/Madrid:20240630T180000
DTSTAMP:20260425T173326
CREATED:20240501T181048Z
LAST-MODIFIED:20240501T181048Z
UID:403-1719770400-1719770400@aliciamartinezbonfill.com
SUMMARY:Requiem de Mozart
DESCRIPTION:Alicia Martínez Bonfill\, soprano \nTànit Bono\, contralt \nJordi Casanova\, tenor \nOriol Mallart\, baríton \nCoral Ginesta de Cervera i Cor de la Diputació de Girona \nOrquestra de Cambra Terrassa 48 \nJosep Miquel Mindán\, direcció
URL:https://aliciamartinezbonfill.com/index.php/event/requiem-de-mozart-3/
LOCATION:Castelló d’Empuries
ATTACH;FMTTYPE=image/jpeg:https://aliciamartinezbonfill.com/wp-content/uploads/2024/05/Captura-de-pantalla-2024-05-01-a-las-19.58.14.jpg
END:VEVENT
END:VCALENDAR