BEGIN:VCALENDAR
VERSION:2.0
PRODID:-//Alicia Martínez Bonfill - ECPv5.14.0.1//NONSGML v1.0//EN
CALSCALE:GREGORIAN
METHOD:PUBLISH
X-WR-CALNAME:Alicia Martínez Bonfill
X-ORIGINAL-URL:https://aliciamartinezbonfill.com
X-WR-CALDESC:Eventos para Alicia Martínez Bonfill
REFRESH-INTERVAL;VALUE=DURATION:PT1H
X-Robots-Tag:noindex
X-PUBLISHED-TTL:PT1H
BEGIN:VTIMEZONE
TZID:UTC
BEGIN:STANDARD
TZOFFSETFROM:+0000
TZOFFSETTO:+0000
TZNAME:UTC
DTSTART:20220101T000000
END:STANDARD
END:VTIMEZONE
BEGIN:VEVENT
DTSTART;TZID=UTC:20220302T180000
DTEND;TZID=UTC:20220302T210000
DTSTAMP:20260425T174101
CREATED:20220221T191145Z
LAST-MODIFIED:20220221T191145Z
UID:329-1646244000-1646254800@aliciamartinezbonfill.com
SUMMARY:Don Pasquale
DESCRIPTION:Òpera bufa en tres actes (Sobretitulada en català).  \nText del propi Donizetti i Giovanni Ruffini\, basat en el llibret d’Angelo Anelli Ser Marcantonio per el compositor Stefano Pavesi.  \nEstrenada al Thêatre-Italien de París\, el 3 de gener  de 1843.  \nDON PASQUALE ens explica la història\, molt típica de l’òpera buffa italiana\, d’un home gran i ric\, que ha estat solter tota la seva vida\, l’hereu del qual és el seu nebot Ernesto\, un vividor. Aquest està enamorat d’una vídua jove\, Norina\, però l’oncle vol que es casi amb una altra dona que ell ha triat\, doncs Norina no li sembla prou adequada. Ernesto es nega i l’oncle decideix casar-se ell mateix. Un amic de la família\, el Doctor Malatesta\, concep un veritable parany: fa passar Norina per la seva germana Sofronia\, recent sortida d’un convent\, que conquista Don Pasquale amb la seva modèstia. Un cop casats\, però\, l’esposa treu un caràcter totalment contrari: despòtica i manaire\, comença a gastar sense límits. El marit no ho pensa consentir i\, després d’un desagradable episodi en que la dona li clava una bufetada\, decideix que cal acabar amb aquest matrimoni. La conspiració de Malatesta culmina dient que cal que Ernesto es casi amb Norina\, que serà la nova mestressa de la casa. Sofronia\, airada\, s’hi nega. Don Pasquale\, per tal de treure’s de sobre aquesta\, accepta. Aleshores li fan veure que ha estat enganyat\, doncs Sofronia i Norina són la mateixa persona. Don Pasquale\, alleujat\, perdona tothom.
URL:https://aliciamartinezbonfill.com/index.php/event/don-pasquale-2/
LOCATION:Teatre Kursaal\, Passeig de Pere III 35\, Manresa\, 08242\, España
CATEGORIES:Ópera
ATTACH;FMTTYPE=image/jpeg:https://aliciamartinezbonfill.com/wp-content/uploads/2022/02/donpasquale.jpg
END:VEVENT
BEGIN:VEVENT
DTSTART;TZID=UTC:20220304T190000
DTEND;TZID=UTC:20220304T220000
DTSTAMP:20260425T174101
CREATED:20220221T191352Z
LAST-MODIFIED:20220221T192513Z
UID:332-1646420400-1646431200@aliciamartinezbonfill.com
SUMMARY:Don Pasquale
DESCRIPTION:Òpera bufa en tres actes (Sobretitulada en català).  \nText del propi Donizetti i Giovanni Ruffini\, basat en el llibret d’Angelo Anelli Ser Marcantonio per el compositor Stefano Pavesi.  \nEstrenada al Thêatre-Italien de París\, el 3 de gener  de 1843.  \nDON PASQUALE ens explica la història\, molt típica de l’òpera buffa italiana\, d’un home gran i ric\, que ha estat solter tota la seva vida\, l’hereu del qual és el seu nebot Ernesto\, un vividor. Aquest està enamorat d’una vídua jove\, Norina\, però l’oncle vol que es casi amb una altra dona que ell ha triat\, doncs Norina no li sembla prou adequada. Ernesto es nega i l’oncle decideix casar-se ell mateix. Un amic de la família\, el Doctor Malatesta\, concep un veritable parany: fa passar Norina per la seva germana Sofronia\, recent sortida d’un convent\, que conquista Don Pasquale amb la seva modèstia. Un cop casats\, però\, l’esposa treu un caràcter totalment contrari: despòtica i manaire\, comença a gastar sense límits. El marit no ho pensa consentir i\, després d’un desagradable episodi en que la dona li clava una bufetada\, decideix que cal acabar amb aquest matrimoni. La conspiració de Malatesta culmina dient que cal que Ernesto es casi amb Norina\, que serà la nova mestressa de la casa. Sofronia\, airada\, s’hi nega. Don Pasquale\, per tal de treure’s de sobre aquesta\, accepta. Aleshores li fan veure que ha estat enganyat\, doncs Sofronia i Norina són la mateixa persona. Don Pasquale\, alleujat\, perdona tothom.
URL:https://aliciamartinezbonfill.com/index.php/event/don-pasquale-3/
LOCATION:Teatre Tarragona\, Rambla Nova 11\, Tarragona\, 43003\, España
CATEGORIES:Ópera
ATTACH;FMTTYPE=image/jpeg:https://aliciamartinezbonfill.com/wp-content/uploads/2022/02/donpasquale.jpg
END:VEVENT
BEGIN:VEVENT
DTSTART;TZID=UTC:20220306T180000
DTEND;TZID=UTC:20220306T210000
DTSTAMP:20260425T174101
CREATED:20220221T192215Z
LAST-MODIFIED:20220221T192435Z
UID:345-1646589600-1646600400@aliciamartinezbonfill.com
SUMMARY:Don Pasquale
DESCRIPTION:Òpera bufa en tres actes (Sobretitulada en català).  \nText del propi Donizetti i Giovanni Ruffini\, basat en el llibret d’Angelo Anelli Ser Marcantonio per el compositor Stefano Pavesi.  \nEstrenada al Thêatre-Italien de París\, el 3 de gener  de 1843.  \nDON PASQUALE ens explica la història\, molt típica de l’òpera buffa italiana\, d’un home gran i ric\, que ha estat solter tota la seva vida\, l’hereu del qual és el seu nebot Ernesto\, un vividor. Aquest està enamorat d’una vídua jove\, Norina\, però l’oncle vol que es casi amb una altra dona que ell ha triat\, doncs Norina no li sembla prou adequada. Ernesto es nega i l’oncle decideix casar-se ell mateix. Un amic de la família\, el Doctor Malatesta\, concep un veritable parany: fa passar Norina per la seva germana Sofronia\, recent sortida d’un convent\, que conquista Don Pasquale amb la seva modèstia. Un cop casats\, però\, l’esposa treu un caràcter totalment contrari: despòtica i manaire\, comença a gastar sense límits. El marit no ho pensa consentir i\, després d’un desagradable episodi en que la dona li clava una bufetada\, decideix que cal acabar amb aquest matrimoni. La conspiració de Malatesta culmina dient que cal que Ernesto es casi amb Norina\, que serà la nova mestressa de la casa. Sofronia\, airada\, s’hi nega. Don Pasquale\, per tal de treure’s de sobre aquesta\, accepta. Aleshores li fan veure que ha estat enganyat\, doncs Sofronia i Norina són la mateixa persona. Don Pasquale\, alleujat\, perdona tothom.
URL:https://aliciamartinezbonfill.com/index.php/event/don-pasquale-7/
LOCATION:Teatre Auditori\, Carrer de Josep Torras I Bages 50\, Granollers\, 08401\, España
CATEGORIES:Ópera
ATTACH;FMTTYPE=image/jpeg:https://aliciamartinezbonfill.com/wp-content/uploads/2022/02/donpasquale.jpg
END:VEVENT
BEGIN:VEVENT
DTSTART;TZID=UTC:20220308T203000
DTEND;TZID=UTC:20220308T230000
DTSTAMP:20260425T174101
CREATED:20220221T191739Z
LAST-MODIFIED:20220221T192421Z
UID:338-1646771400-1646780400@aliciamartinezbonfill.com
SUMMARY:Don Pasquale
DESCRIPTION:Òpera bufa en tres actes (Sobretitulada en català).  \nText del propi Donizetti i Giovanni Ruffini\, basat en el llibret d’Angelo Anelli Ser Marcantonio per el compositor Stefano Pavesi.  \nEstrenada al Thêatre-Italien de París\, el 3 de gener  de 1843.  \nDON PASQUALE ens explica la història\, molt típica de l’òpera buffa italiana\, d’un home gran i ric\, que ha estat solter tota la seva vida\, l’hereu del qual és el seu nebot Ernesto\, un vividor. Aquest està enamorat d’una vídua jove\, Norina\, però l’oncle vol que es casi amb una altra dona que ell ha triat\, doncs Norina no li sembla prou adequada. Ernesto es nega i l’oncle decideix casar-se ell mateix. Un amic de la família\, el Doctor Malatesta\, concep un veritable parany: fa passar Norina per la seva germana Sofronia\, recent sortida d’un convent\, que conquista Don Pasquale amb la seva modèstia. Un cop casats\, però\, l’esposa treu un caràcter totalment contrari: despòtica i manaire\, comença a gastar sense límits. El marit no ho pensa consentir i\, després d’un desagradable episodi en que la dona li clava una bufetada\, decideix que cal acabar amb aquest matrimoni. La conspiració de Malatesta culmina dient que cal que Ernesto es casi amb Norina\, que serà la nova mestressa de la casa. Sofronia\, airada\, s’hi nega. Don Pasquale\, per tal de treure’s de sobre aquesta\, accepta. Aleshores li fan veure que ha estat enganyat\, doncs Sofronia i Norina són la mateixa persona. Don Pasquale\, alleujat\, perdona tothom.
URL:https://aliciamartinezbonfill.com/index.php/event/don-pasquale-5/
LOCATION:Teatre Fortuny\, Plaça de Prim 4\, Reus\, 43201\, España
CATEGORIES:Ópera
ATTACH;FMTTYPE=image/jpeg:https://aliciamartinezbonfill.com/wp-content/uploads/2022/02/donpasquale.jpg
END:VEVENT
BEGIN:VEVENT
DTSTART;TZID=UTC:20220313T180000
DTEND;TZID=UTC:20220313T210000
DTSTAMP:20260425T174101
CREATED:20220221T191922Z
LAST-MODIFIED:20220221T192407Z
UID:341-1647194400-1647205200@aliciamartinezbonfill.com
SUMMARY:Don Pasquale
DESCRIPTION:Òpera bufa en tres actes (Sobretitulada en català).  \nText del propi Donizetti i Giovanni Ruffini\, basat en el llibret d’Angelo Anelli Ser Marcantonio per el compositor Stefano Pavesi.  \nEstrenada al Thêatre-Italien de París\, el 3 de gener  de 1843.  \nDON PASQUALE ens explica la història\, molt típica de l’òpera buffa italiana\, d’un home gran i ric\, que ha estat solter tota la seva vida\, l’hereu del qual és el seu nebot Ernesto\, un vividor. Aquest està enamorat d’una vídua jove\, Norina\, però l’oncle vol que es casi amb una altra dona que ell ha triat\, doncs Norina no li sembla prou adequada. Ernesto es nega i l’oncle decideix casar-se ell mateix. Un amic de la família\, el Doctor Malatesta\, concep un veritable parany: fa passar Norina per la seva germana Sofronia\, recent sortida d’un convent\, que conquista Don Pasquale amb la seva modèstia. Un cop casats\, però\, l’esposa treu un caràcter totalment contrari: despòtica i manaire\, comença a gastar sense límits. El marit no ho pensa consentir i\, després d’un desagradable episodi en que la dona li clava una bufetada\, decideix que cal acabar amb aquest matrimoni. La conspiració de Malatesta culmina dient que cal que Ernesto es casi amb Norina\, que serà la nova mestressa de la casa. Sofronia\, airada\, s’hi nega. Don Pasquale\, per tal de treure’s de sobre aquesta\, accepta. Aleshores li fan veure que ha estat enganyat\, doncs Sofronia i Norina són la mateixa persona. Don Pasquale\, alleujat\, perdona tothom.
URL:https://aliciamartinezbonfill.com/index.php/event/don-pasquale-6/
LOCATION:Teatre de la Llotja\, Avinguda de Tortosa 6\, Lleida\, 25005
CATEGORIES:Ópera
ATTACH;FMTTYPE=image/jpeg:https://aliciamartinezbonfill.com/wp-content/uploads/2022/02/donpasquale.jpg
END:VEVENT
END:VCALENDAR